BEGIN:VCALENDAR
VERSION:2.0
PRODID:-//Círculo - ECPv6.15.20//NONSGML v1.0//EN
CALSCALE:GREGORIAN
METHOD:PUBLISH
X-WR-CALNAME:Círculo
X-ORIGINAL-URL:https://circulocomedy.com
X-WR-CALDESC:Eventos para Círculo
REFRESH-INTERVAL;VALUE=DURATION:PT1H
X-Robots-Tag:noindex
X-PUBLISHED-TTL:PT1H
BEGIN:VTIMEZONE
TZID:America/Mexico_City
BEGIN:STANDARD
TZOFFSETFROM:-0600
TZOFFSETTO:-0600
TZNAME:CST
DTSTART:20250101T000000
END:STANDARD
END:VTIMEZONE
BEGIN:VEVENT
DTSTART;TZID=America/Mexico_City:20260420T190000
DTEND;TZID=America/Mexico_City:20260420T230000
DTSTAMP:20260420T184251
CREATED:20260101T072038Z
LAST-MODIFIED:20260420T161849Z
UID:45235-1776711600-1776726000@circulocomedy.com
SUMMARY:SúPER OPEN MIC
DESCRIPTION:Abr 20\, 2026\n@\n7:00 PM\n–\n11:00 PM\nInvitados\nSORPRESA – RICARDO PÉREZ – CHAPARRO SALAZAR – SILVIA DE FRENTE – BOBBY COMEDIA – CACHO CANTÚ – GUS PROAL – LANDO IBARRA – MITCH MENDOZA\n\nBOLETOS $100\n \nACCESO SORTEO:\n6:20 PM\nACCESO:\n6:40 PM\nFUNCIÓN:\n7:00 PM\nAbr 20\, 2026\n@\n7:00 PM\n–\n11:00 PM\n\nBOLETOS $100\n \nTemporada 2026  de Stand Up Comedy en 139 – Foro / Comedy Club.  Lo mejor de la escena nacional e internacional en la Ciudad de México. ⭕ \n#standupcomedy139 #circulocomedy circulOcomedy \nPRÓXIMAS FUNCIONES\n139 \nSúPER OPEN MIC\n20 ABR. Temporada 2026 Open Mic Stand Up Comedy Invitadxs: ESPECIALES y nuevo talento de la escena de la CDMX. \n139 \nSúPER OPEN MIC\n27 ABR. Temporada 2026 Open Mic Stand Up Comedy Invitadxs: ESPECIALES y nuevo talento de la escena de la CDMX. \n139 \nSúPER OPEN MIC\n4 MAY. Temporada 2026 Open Mic Stand Up Comedy Invitadxs: ESPECIALES y nuevo talento de la escena de la Ciudad de México. \n139 \nSúPER OPEN MIC\n11 MAY. Temporada 2026 Open Mic Stand Up Comedy Invitadxs: ESPECIALES y nuevo talento de la escena de la Ciudad de México. \n139 \nSúPER OPEN MIC\n18 MAY. Temporada 2026 Open Mic Stand Up Comedy Invitadxs: ESPECIALES y nuevo talento de la escena de la Ciudad de México. \n139 \nSúPER OPEN MIC\n25 MAY. Temporada 2026 Open Mic Stand Up Comedy Invitadxs: ESPECIALES y nuevo talento de la escena de la Ciudad de México. \n  \n\n\n\nGABO SERNA \n\nNOCHES SONORO – PARANORMAL \n\n\nMARECELA LECUONA\n139 \nQue Coman Pastel. Stand Up Comedy 2026 @ciento39 \n  \nBOBBY COMEDIA\n139 \nTemporada 2026 de Stand Up Comedy\, Impro\, Comedia y eventos especiales en @ciento39 – Foro / Comedy Club. \n  \nSúPER OPEN MIC\n139 \n27 ABR. Temporada 2026 Open Mic Stand Up Comedy Invitadxs: ESPECIALES y nuevo talento de la escena de la CDMX. \n  \nPreviousNext\n\n  \n@ciento39
URL:https://circulocomedy.com/eventos/super-open-mic/
LOCATION:139\, Av Nuevo León 139\, CDMX\, Hipódromo\, Cuauhtémoc\, 06100\, Mexico
CATEGORIES:139
ATTACH;FMTTYPE=image/jpeg:https://circulocomedy.com/wp-content/uploads/2026/02/139-260420_SuperOM-1530.jpg
END:VEVENT
END:VCALENDAR