BEGIN:VCALENDAR
VERSION:2.0
PRODID:-//Círculo - ECPv6.15.20//NONSGML v1.0//EN
CALSCALE:GREGORIAN
METHOD:PUBLISH
X-WR-CALNAME:Círculo
X-ORIGINAL-URL:https://circulocomedy.com
X-WR-CALDESC:Eventos para Círculo
REFRESH-INTERVAL;VALUE=DURATION:PT1H
X-Robots-Tag:noindex
X-PUBLISHED-TTL:PT1H
BEGIN:VTIMEZONE
TZID:America/Mexico_City
BEGIN:STANDARD
TZOFFSETFROM:-0600
TZOFFSETTO:-0600
TZNAME:CST
DTSTART:20250101T000000
END:STANDARD
END:VTIMEZONE
BEGIN:VEVENT
DTSTART;TZID=America/Mexico_City:20260425T160000
DTEND;TZID=America/Mexico_City:20260425T173000
DTSTAMP:20260421T062845
CREATED:20260420T194358Z
LAST-MODIFIED:20260420T194736Z
UID:45864-1777132800-1777138200@circulocomedy.com
SUMMARY:PURPU CATCH
DESCRIPTION:PURPU CATCH 4a Edición				\n				\n				\n				\n					\n		\n			Abr 25\, 2026\n\n	\n\n	  @  \n\n\n4:00 PM\n\n		\n\n\n\n	\n	  -  \n\n5:30 PM\n\n\n\n	\n				\n				\n					\n		\n					\n		\n				\n						\n					\n			\n						\n				\n																\n															\n															\n				\n				\n				\n							\n			\n		\n						\n				\n					\n		\n				\n			\n						\n				\n					8 duplas compiten en este mini torneo de improvisación 				\n				\n					\n		\n				\n			\n						\n				\n					Formato catch y sólo una sale ganadora				\n				\n				\n				\n									\n					\n						\n									BOLETOS $100\n					\n					\n				\n								\n				\n					\n		\n					\n		\n				\n						\n					\n			\n						\n				\n					\n		\n			Abr 25\, 2026\n\n	\n\n	  @  \n\n\n4:00 PM\n\n		\n\n\n\n	\n	  -  \n\n5:30 PM\n\n\n\n	\n				\n				\n					\n		\n					\n		\n				\n						\n					\n			\n							\n		\n				\n			\n						\n				\n					ACCESO:				\n				\n					\n		\n				\n			\n						\n				\n					3:00 PM				\n				\n					\n		\n				\n			\n							\n		\n					\n		\n				\n						\n					\n			\n						\n				\n							\n			\n		\n						\n				\n				\n				\n									Temporada 2025 de Stand Up Comedy\, Impro\, Comedia y eventos especiales en @WokoComedyClub – Foro. Lo mejor de la escena nacional e internacional en la Ciudad de México. ⭕ 								\n				\n					\n		\n					\n		\n				\n						\n					\n			\n						\n				\n					\n	\n		\n\n	\n	Agregar al calendario	\n		\n	\n\n		\n			\n									\n	Google Calendar\n\n									\n	iCalendar\n\n									\n	Outlook 365\n\n									\n	Outlook Live\n\n							\n		\n\n		\n	\n\n				\n				\n				\n				\n							\n			\n		\n						\n				\n					\n		\n					\n		\n				\n						\n					\n			\n						\n				\n											\n									\n			Woko Comedy ClubOPEN MIC IMPRO3KViewsShareTwitter-newFacebookShare-emailLink+ info						\n									\n			Woko Comedy Club281ViewsShareTwitter-newFacebookShare-emailLinkDAVID SHOW+ info		\n							\n									\n			Woko Comedy Club241ViewsShareTwitter-newFacebookShare-emailLinkHAZ PATRIA+ info		\n							\n									\n			Woko Comedy Club104ViewsShareTwitter-newFacebookShare-emailLinkRO DÍAZ+ info		\n							\n									\n			Woko Comedy Club101ViewsShareTwitter-newFacebookShare-emailLinkIMPRO en FA+ info		\n							\n									\n			Woko Comedy Club88ViewsShareTwitter-newFacebookShare-emailLinkJACK HESTER+ info		\n							\n									\n			Woko Comedy Club53ViewsShareTwitter-newFacebookShare-emailLinkKARI SÁNCHEZ+ info
URL:https://circulocomedy.com/eventos/purpu-catch/
LOCATION:Woko Comedy Club\, Av Nuevo León 139-B\, CDMX\, Hipódromo\, Cuauhtémoc\, 06100\, Mexico
CATEGORIES:Woko Comedy Club
ATTACH;FMTTYPE=image/png:https://circulocomedy.com/wp-content/uploads/2026/04/wcc-260300-1530.png
END:VEVENT
END:VCALENDAR