BEGIN:VCALENDAR
VERSION:2.0
PRODID:-//Círculo - ECPv6.15.20//NONSGML v1.0//EN
CALSCALE:GREGORIAN
METHOD:PUBLISH
X-ORIGINAL-URL:https://circulocomedy.com
X-WR-CALDESC:Eventos para Círculo
REFRESH-INTERVAL;VALUE=DURATION:PT1H
X-Robots-Tag:noindex
X-PUBLISHED-TTL:PT1H
BEGIN:VTIMEZONE
TZID:America/Mexico_City
BEGIN:STANDARD
TZOFFSETFROM:-0600
TZOFFSETTO:-0600
TZNAME:CST
DTSTART:20250101T000000
END:STANDARD
END:VTIMEZONE
BEGIN:VEVENT
DTSTART;TZID=America/Mexico_City:20260718T190000
DTEND;TZID=America/Mexico_City:20260718T210000
DTSTAMP:20260423T230810
CREATED:20260422T195920Z
LAST-MODIFIED:20260422T212622Z
UID:45941-1784401200-1784408400@circulocomedy.com
SUMMARY:LOS RESOLVEDORES Sábados
DESCRIPTION:FUNNY GIRL OPEN MIC IN ENGLISH				\n				\n				\n				\n					\n		\n			Abr 23\, 2026\n\n	\n\n	  @  \n\n\n7:30 PM\n\n		\n\n\n\n	\n	  -  \n\n10:00 PM\n\n\n\n	\n				\n				\n				\n				\n							\n			\n		\n						\n				\n					\n		\n					\n		\n				\n						\n					\n			\n							\n		\n				\n			\n						\n				\n																\n															\n															\n				\n					\n		\n				\n			\n						\n				\n					Funny Girl's Open Mic in English. Bring your own jokes and party vibes.				\n				\n				\n				\n					SPECIAL GUESTS				\n				\n				\n				\n					--				\n				\n					\n		\n				\n			\n							\n		\n					\n		\n				\n						\n					\n			\n						\n				\n									\n					\n						\n									PASSES\n					\n					\n				\n								\n				\n					\n		\n					\n		\n				\n						\n					\n			\n						\n				\n					ACCESS:				\n				\n					\n		\n				\n			\n						\n				\n					7:00 PM				\n				\n					\n		\n				\n			\n						\n				\n					LIST:				\n				\n					\n		\n				\n			\n						\n				\n					7:30 PM				\n				\n					\n		\n				\n			\n						\n				\n					SHOW:				\n				\n					\n		\n				\n			\n						\n				\n					8:30 PM				\n				\n					\n		\n					\n		\n				\n						\n					\n			\n						\n				\n					\n		\n			Abr 23\, 2026\n\n	\n\n	  @  \n\n\n7:30 PM\n\n		\n\n\n\n	\n	  -  \n\n10:00 PM\n\n\n\n	\n				\n				\n				\n				\n					NEXT SHOWS				\n				\n				\n				\n					\n	\n		\n	                                                                                                                                                                                                                                                                             	\n	\n				\n			Woko Comedy ClubOPEN MIC IMPRO\n								\n							22 ABR. Los miércoles\, PURPURA CLUB OPEN STAGE presenta Open Mic de IMPRO. De regreso este 2026. \n\n\n	                                                                                                                                                                                                                                                                             	\n	\n				\n			139SúPER OPEN MIC\n								\n							4 MAY. Temporada 2026 Open Mic Stand Up Comedy Invitadxs: ESPECIALES y nuevo talento de la escena de la Ciudad de México. \n\n\n	                                                                                                                                                                                                                                                                             	\n	\n				\n			139SúPER OPEN MIC\n								\n							27 ABR. Temporada 2026 Open Mic Stand Up Comedy Invitadxs: ESPECIALES y nuevo talento de la escena de la CDMX. \n\n\n	                                                                                                                                                                                                                                                                             	\n	\n				\n			139SúPER OPEN MIC\n								\n							11 MAY. Temporada 2026 Open Mic Stand Up Comedy Invitadxs: ESPECIALES y nuevo talento de la escena de la Ciudad de México. \n\n\n	                                                                                                                                                                                                                                                                             	\n	\n				\n			139SúPER OPEN MIC\n								\n							18 MAY. Temporada 2026 Open Mic Stand Up Comedy Invitadxs: ESPECIALES y nuevo talento de la escena de la Ciudad de México. \n\n\n	                                                                                                                                                                                                                                                                             	\n	\n				\n			139SúPER OPEN MIC\n								\n							25 MAY. Temporada 2026 Open Mic Stand Up Comedy Invitadxs: ESPECIALES y nuevo talento de la escena de la Ciudad de México. \n\n\n	                                                                                                                                                                                                                                                                             	\n	\n				\n			Woko Comedy ClubOPEN MIC IN ENGLISH\n								\n							23 ABR. Funny Girl’s Open Mic in English. Bring your own jokes and party vibes \n\n\n	                                                                                                                                                                                                                                                                             	\n	\n				\n			Woko Comedy ClubOPEN MIC IN ENGLISH\n								\n							30 ABR. Funny Girl’s Open Mic in English. Bring your own jokes and party vibes \n\n\n	                                                                                                                                                                                                                                                                             	\n	\n				\n			Woko Comedy ClubOPEN MIC IN ENGLISH\n								\n							7 MAY. Funny Girl’s Open Mic in English. Bring your own jokes and party vibes \n\n\n	                                                                                                                                                                                                                                                                             	\n	\n				\n			139PÚRPURA CLUB 2o. ANIVERSARIO\n								\n							7 MAY. PÚRPURA CLUB OPEN STAGE. 2o. Aniversario @ciento39 \n\n				\n				\n				\n				\n							\n			\n		\n						\n				\n					\n		\n					\n		\n				\n						\n					\n			\n						\n				\n							\n			\n		\n						\n				\n				\n				\n									Temporada 2025 de Stand Up Comedy\, Impro\, Comedia y eventos especiales en @WokoComedyClub – Foro. Lo mejor de la escena nacional e internacional en la Ciudad de México. ⭕ 								\n				\n					\n		\n					\n		\n				\n						\n					\n			\n						\n				\n					\n	\n		\n\n	\n	Agregar al calendario	\n		\n	\n\n		\n			\n									\n	Google Calendar\n\n									\n	iCalendar\n\n									\n	Outlook 365\n\n									\n	Outlook Live\n\n							\n		\n\n		\n	\n\n				\n				\n				\n				\n							\n			\n		\n						\n				\n					\n		\n					\n		\n				\n						\n					\n			\n						\n				\n											\n									\n			Woko Comedy ClubOPEN MIC IMPRO3KViewsShareTwitter-newFacebookShare-emailLink+ info						\n									\n			Woko Comedy Club380ViewsShareTwitter-newFacebookShare-emailLinkDAVID SHOW+ info		\n							\n									\n			Woko Comedy Club1KViewsShareTwitter-newFacebookShare-emailLinkCHRIS ANDRADE+ info		\n							\n									\n			Woko Comedy Club372ViewsShareTwitter-newFacebookShare-emailLinkHAZ PATRIA+ info		\n							\n									\n			Woko Comedy Club173ViewsShareTwitter-newFacebookShare-emailLinkRO DÍAZ+ info		\n							\n									\n			Woko Comedy Club175ViewsShareTwitter-newFacebookShare-emailLinkIMPRO en FA+ info		\n							\n									\n			Woko Comedy Club95ViewsShareTwitter-newFacebookShare-emailLinkJACK HESTER+ info
URL:https://circulocomedy.com/eventos/los-resolvedores-sabados/
LOCATION:139\, Av Nuevo León 139\, CDMX\, Hipódromo\, Cuauhtémoc\, 06100\, Mexico
CATEGORIES:139
ATTACH;FMTTYPE=image/jpeg:https://circulocomedy.com/wp-content/uploads/2026/04/139-260718_LosRes-1530.jpg
END:VEVENT
BEGIN:VEVENT
DTSTART;TZID=America/Mexico_City:20260801T200000
DTEND;TZID=America/Mexico_City:20260801T213000
DTSTAMP:20260423T230810
CREATED:20260421T005815Z
LAST-MODIFIED:20260421T010148Z
UID:45889-1785614400-1785619800@circulocomedy.com
SUMMARY:MIGAJER@S
DESCRIPTION:FUNNY GIRL OPEN MIC IN ENGLISH				\n				\n				\n				\n					\n		\n			Abr 23\, 2026\n\n	\n\n	  @  \n\n\n7:30 PM\n\n		\n\n\n\n	\n	  -  \n\n10:00 PM\n\n\n\n	\n				\n				\n				\n				\n							\n			\n		\n						\n				\n					\n		\n					\n		\n				\n						\n					\n			\n							\n		\n				\n			\n						\n				\n																\n															\n															\n				\n					\n		\n				\n			\n						\n				\n					Funny Girl's Open Mic in English. Bring your own jokes and party vibes.				\n				\n				\n				\n					SPECIAL GUESTS				\n				\n				\n				\n					--				\n				\n					\n		\n				\n			\n							\n		\n					\n		\n				\n						\n					\n			\n						\n				\n									\n					\n						\n									PASSES\n					\n					\n				\n								\n				\n					\n		\n					\n		\n				\n						\n					\n			\n						\n				\n					ACCESS:				\n				\n					\n		\n				\n			\n						\n				\n					7:00 PM				\n				\n					\n		\n				\n			\n						\n				\n					LIST:				\n				\n					\n		\n				\n			\n						\n				\n					7:30 PM				\n				\n					\n		\n				\n			\n						\n				\n					SHOW:				\n				\n					\n		\n				\n			\n						\n				\n					8:30 PM				\n				\n					\n		\n					\n		\n				\n						\n					\n			\n						\n				\n					\n		\n			Abr 23\, 2026\n\n	\n\n	  @  \n\n\n7:30 PM\n\n		\n\n\n\n	\n	  -  \n\n10:00 PM\n\n\n\n	\n				\n				\n				\n				\n					NEXT SHOWS				\n				\n				\n				\n					\n	\n		\n	                                                                                                                                                                                                                                                                             	\n	\n				\n			Woko Comedy ClubOPEN MIC IMPRO\n								\n							22 ABR. Los miércoles\, PURPURA CLUB OPEN STAGE presenta Open Mic de IMPRO. De regreso este 2026. \n\n\n	                                                                                                                                                                                                                                                                             	\n	\n				\n			139SúPER OPEN MIC\n								\n							4 MAY. Temporada 2026 Open Mic Stand Up Comedy Invitadxs: ESPECIALES y nuevo talento de la escena de la Ciudad de México. \n\n\n	                                                                                                                                                                                                                                                                             	\n	\n				\n			139SúPER OPEN MIC\n								\n							27 ABR. Temporada 2026 Open Mic Stand Up Comedy Invitadxs: ESPECIALES y nuevo talento de la escena de la CDMX. \n\n\n	                                                                                                                                                                                                                                                                             	\n	\n				\n			139SúPER OPEN MIC\n								\n							11 MAY. Temporada 2026 Open Mic Stand Up Comedy Invitadxs: ESPECIALES y nuevo talento de la escena de la Ciudad de México. \n\n\n	                                                                                                                                                                                                                                                                             	\n	\n				\n			139SúPER OPEN MIC\n								\n							18 MAY. Temporada 2026 Open Mic Stand Up Comedy Invitadxs: ESPECIALES y nuevo talento de la escena de la Ciudad de México. \n\n\n	                                                                                                                                                                                                                                                                             	\n	\n				\n			139SúPER OPEN MIC\n								\n							25 MAY. Temporada 2026 Open Mic Stand Up Comedy Invitadxs: ESPECIALES y nuevo talento de la escena de la Ciudad de México. \n\n\n	                                                                                                                                                                                                                                                                             	\n	\n				\n			Woko Comedy ClubOPEN MIC IN ENGLISH\n								\n							23 ABR. Funny Girl’s Open Mic in English. Bring your own jokes and party vibes \n\n\n	                                                                                                                                                                                                                                                                             	\n	\n				\n			Woko Comedy ClubOPEN MIC IN ENGLISH\n								\n							30 ABR. Funny Girl’s Open Mic in English. Bring your own jokes and party vibes \n\n\n	                                                                                                                                                                                                                                                                             	\n	\n				\n			Woko Comedy ClubOPEN MIC IN ENGLISH\n								\n							7 MAY. Funny Girl’s Open Mic in English. Bring your own jokes and party vibes \n\n\n	                                                                                                                                                                                                                                                                             	\n	\n				\n			139PÚRPURA CLUB 2o. ANIVERSARIO\n								\n							7 MAY. PÚRPURA CLUB OPEN STAGE. 2o. Aniversario @ciento39 \n\n				\n				\n				\n				\n							\n			\n		\n						\n				\n					\n		\n					\n		\n				\n						\n					\n			\n						\n				\n							\n			\n		\n						\n				\n				\n				\n									Temporada 2025 de Stand Up Comedy\, Impro\, Comedia y eventos especiales en @WokoComedyClub – Foro. Lo mejor de la escena nacional e internacional en la Ciudad de México. ⭕ 								\n				\n					\n		\n					\n		\n				\n						\n					\n			\n						\n				\n					\n	\n		\n\n	\n	Agregar al calendario	\n		\n	\n\n		\n			\n									\n	Google Calendar\n\n									\n	iCalendar\n\n									\n	Outlook 365\n\n									\n	Outlook Live\n\n							\n		\n\n		\n	\n\n				\n				\n				\n				\n							\n			\n		\n						\n				\n					\n		\n					\n		\n				\n						\n					\n			\n						\n				\n											\n									\n			Woko Comedy ClubOPEN MIC IMPRO3KViewsShareTwitter-newFacebookShare-emailLink+ info						\n									\n			Woko Comedy Club380ViewsShareTwitter-newFacebookShare-emailLinkDAVID SHOW+ info		\n							\n									\n			Woko Comedy Club1KViewsShareTwitter-newFacebookShare-emailLinkCHRIS ANDRADE+ info		\n							\n									\n			Woko Comedy Club372ViewsShareTwitter-newFacebookShare-emailLinkHAZ PATRIA+ info		\n							\n									\n			Woko Comedy Club173ViewsShareTwitter-newFacebookShare-emailLinkRO DÍAZ+ info		\n							\n									\n			Woko Comedy Club175ViewsShareTwitter-newFacebookShare-emailLinkIMPRO en FA+ info		\n							\n									\n			Woko Comedy Club95ViewsShareTwitter-newFacebookShare-emailLinkJACK HESTER+ info
URL:https://circulocomedy.com/eventos/migajers/
LOCATION:Woko Comedy Club\, Av Nuevo León 139-B\, CDMX\, Hipódromo\, Cuauhtémoc\, 06100\, Mexico
CATEGORIES:Woko Comedy Club
ATTACH;FMTTYPE=image/jpeg:https://circulocomedy.com/wp-content/uploads/2026/04/wcc-260801_miga-1530.jpg
END:VEVENT
END:VCALENDAR